BEGIN:VCALENDAR
PRODID:-//sreas11318//EN
VERSION:2.0
BEGIN:VEVENT
SUMMARY:Auctioneum Ltd - East Bristol &amp; Bath: ANTIQUE, COLLECTABLE &amp; DECORATIVE OBJECTS - BATH - TIMED
PRIORITY:0
CLASS:PUBLIC
DTSTART:20260608T163000Z
DTEND:20260622T190000Z
DESCRIPTION:Welcome to our auction!
This is an online-only timed sale - the person with the highest bid when the time runs out, wins the lot. You can bid online across one of the many platforms that host our sales. A bid within the final 10 minutes will reset the timer to 10 minutes.
We offer in-house worldwide postage, packing and delivery on all lots - simply click on the 'Shipping' tab next to each description for a full breakdown of our postage prices. If you'd like a quote or have a question then please get in touch and we'll be happy to assist.
Bid for just 4%(+VAT)
X-ALT-DESC;FMTTYPE=text/html:<p>Welcome to our auction!</p><p>This is an online-only timed sale - the person with the highest bid when the time runs out, wins the lot. You can bid online across one of the many platforms that host our sales. A bid within the final 10 minutes will reset the timer to 10 minutes.</p><p>We offer in-house worldwide postage, packing and delivery on all lots - simply click on the 'Shipping' tab next to each description for a full breakdown of our postage prices. If you'd like a quote or have a question then please get in touch and we'll be happy to assist.</p><p>Bid for just 4%(+VAT)</p>
LOCATION:Auctioneum Ltd, Broadlands Fruit Farm, Box Road, Bath, BA1 7LR, United Kingdom
END:VEVENT
END:VCALENDAR