BEGIN:VCALENDAR
PRODID:-//sreas11292//EN
VERSION:2.0
BEGIN:VEVENT
SUMMARY:Auctioneum Ltd - East Bristol &amp; Bath: PROPS, SCRIPTS &amp; AUTOGRAPHS INC. DOCTOR WHO - TIMED - BRISTOL
PRIORITY:0
CLASS:PUBLIC
DTSTART:20260421T150000Z
DTEND:20260512T192720Z
DESCRIPTION:Welcome to our auction!&nbsp;
We offer in-house worldwide postage, packing and delivery on all lots - simply click on the 'Shipping' tab next to each description for a full breakdown of our postage prices. If you'd like a quote or have a question then please get in touch and we'll be happy to assist.
Bid live for just 4%(+VAT)
X-ALT-DESC;FMTTYPE=text/html:<p>Welcome to our auction!&nbsp;</p><p>We offer in-house worldwide postage, packing and delivery on all lots - simply click on the 'Shipping' tab next to each description for a full breakdown of our postage prices. If you'd like a quote or have a question then please get in touch and we'll be happy to assist.</p><p>Bid live for just 4%(+VAT)</p>
LOCATION:Auctioneum Bristol, Unit 1 Hanham Business Park, Memorial Road, Bristol, BS15 3JE, United Kingdom
END:VEVENT
END:VCALENDAR